BEGIN:VCALENDAR
VERSION:2.0
PRODID:-//3nity.com//3nity CMS//EN
BEGIN:VEVENT
SUMMARY:Ladies Book Club
UID:2026-07-18-1213377@fcckearney.org
SEQUENCE:0
STATUS:CONFIRMED
DTSTART:20260420T180000
DTEND:20260420T180000
DTSTAMP:20161222T120000
DESCRIPTION:Experiencing God in the Silence: Finding God's Voice in a Noisy World by Tina Cook
URL:http://fcckearney.org
END:VEVENT
END:VCALENDAR
